BEGIN:VCALENDAR
VERSION:2.0
PRODID:-//Netzwerk Seelische Gesundheit von vietnamesischen Migrant_innen - ECPv4.6.24.1//NONSGML v1.0//EN
CALSCALE:GREGORIAN
METHOD:PUBLISH
X-WR-CALNAME:Netzwerk Seelische Gesundheit von vietnamesischen Migrant_innen
X-ORIGINAL-URL:http://www.netzwerk-vietpsygesundheit.de
X-WR-CALDESC:Veranstaltungen für Netzwerk Seelische Gesundheit von vietnamesischen Migrant_innen
BEGIN:VEVENT
DTSTART;TZID=Europe/Berlin:20201104T093000
DTEND;TZID=Europe/Berlin:20201104T113000
DTSTAMP:20260419T162702
CREATED:20200904T131456Z
LAST-MODIFIED:20200904T131456Z
UID:1502-1604482200-1604489400@www.netzwerk-vietpsygesundheit.de
SUMMARY:AG Vietnamesische Mütter Depression
DESCRIPTION:* Nur für Mitarbeiter*innen von Projekten/Einrichtungen\, die mit vietnamesischen Müttern arbeiten.\nTeilnehmerzahl ist begrenzt. Anfrage an: nozomi.spennemann@via-in-berlin.de \n
URL:http://www.netzwerk-vietpsygesundheit.de/de/event/ag-vietnamesische-muetter-depression/
END:VEVENT
END:VCALENDAR