BEGIN:VCALENDAR
VERSION:2.0
PRODID:-//Netzwerk Seelische Gesundheit von vietnamesischen Migrant_innen - ECPv4.6.24.1//NONSGML v1.0//EN
CALSCALE:GREGORIAN
METHOD:PUBLISH
X-WR-CALNAME:Netzwerk Seelische Gesundheit von vietnamesischen Migrant_innen
X-ORIGINAL-URL:http://www.netzwerk-vietpsygesundheit.de
X-WR-CALDESC:Veranstaltungen für Netzwerk Seelische Gesundheit von vietnamesischen Migrant_innen
BEGIN:VEVENT
DTSTART;TZID=Europe/Berlin:20220217T140000
DTEND;TZID=Europe/Berlin:20220217T160000
DTSTAMP:20260419T162522
CREATED:20220302T164238Z
LAST-MODIFIED:20220302T164238Z
UID:2205-1645106400-1645113600@www.netzwerk-vietpsygesundheit.de
SUMMARY:7. Aurauschtreffen der Expert:innenrunde Vietnamesische Asylbewerberinnen
DESCRIPTION:2021 wurde von der Koordinatorin für Flüchtlingsmanagement bei der Senatsverwaltung für Integration\, Arbeit und Soziales die Expert:innenaustaustauschrunde zu vietnamesischen Asylbewerberinnen ins Leben gerufen\, an der Senatsverwaltungen\, Bezirke\, Landesamt für Flüchtlinge\, Unterkünfte für Asylbewerber:innen sowie freie Träger teilnehmen. Das Austauschtreffen wird 2022 fortgesetzt und wird vorläufig von Verband für interkulturelle Arbeit mitorganisiert. \nKontakt: Nozomi Spennemann (nozomi.spennemann@via-in-berlin.de) \n
URL:http://www.netzwerk-vietpsygesundheit.de/de/event/7-aurauschtreffen-der-expertinnenrunde-vietnamesische-asylbewerberinnen/
LOCATION:digital
END:VEVENT
END:VCALENDAR