BEGIN:VCALENDAR
VERSION:2.0
PRODID:-//Netzwerk Seelische Gesundheit von vietnamesischen Migrant_innen - ECPv4.6.24.1//NONSGML v1.0//EN
CALSCALE:GREGORIAN
METHOD:PUBLISH
X-WR-CALNAME:Netzwerk Seelische Gesundheit von vietnamesischen Migrant_innen
X-ORIGINAL-URL:http://www.netzwerk-vietpsygesundheit.de
X-WR-CALDESC:Veranstaltungen für Netzwerk Seelische Gesundheit von vietnamesischen Migrant_innen
BEGIN:VEVENT
DTSTART;TZID=Europe/Berlin:20241205T140000
DTEND;TZID=Europe/Berlin:20241205T163000
DTSTAMP:20260420T104842
CREATED:20240708T122931Z
LAST-MODIFIED:20240708T122931Z
UID:3145-1733407200-1733416200@www.netzwerk-vietpsygesundheit.de
SUMMARY:14. Treffen der Expert:innenaustauschrunde Vietnamesische Asylbewerberinnen
DESCRIPTION:Das Programm folgt. Kontakt an: nozomi.spennemann@via-in-berlin.de \n
URL:http://www.netzwerk-vietpsygesundheit.de/de/event/14-treffen-der-expertinnenaustauschrunde-vietnamesische-asylbewerberinnen/
LOCATION:Die Beuftragte des Senats für Partizipation\, Integration und Migration\, Potsdamer Str. 65\, Belrin\, 10785
END:VEVENT
END:VCALENDAR